BEGIN:VCALENDAR
VERSION:2.0
PRODID:-//Good Ol&#039; Gals - ECPv6.15.20//NONSGML v1.0//EN
CALSCALE:GREGORIAN
METHOD:PUBLISH
X-WR-CALNAME:Good Ol&#039; Gals
X-ORIGINAL-URL:https://goodolgals.com
X-WR-CALDESC:Events for Good Ol&#039; Gals
REFRESH-INTERVAL;VALUE=DURATION:PT1H
X-Robots-Tag:noindex
X-PUBLISHED-TTL:PT1H
BEGIN:VTIMEZONE
TZID:UTC
BEGIN:STANDARD
TZOFFSETFROM:+0000
TZOFFSETTO:+0000
TZNAME:UTC
DTSTART:20250101T000000
END:STANDARD
END:VTIMEZONE
BEGIN:VEVENT
DTSTART;TZID=UTC:20260301T080000
DTEND;TZID=UTC:20260531T170000
DTSTAMP:20260422T125015
CREATED:20260302T201806Z
LAST-MODIFIED:20260302T201806Z
UID:9906-1772352000-1780246800@goodolgals.com
SUMMARY:Spring Into Service with Busy Bees 🌸🐝
DESCRIPTION:Spring Into Service with Busy Bees  \nThis spring\, every clean makes a difference. From March through May\, Busy Bees Flawless Clean & Organizing LLC is giving back to the community in a special way. For every spring cleaning booked\, a small care package or cleaning supply kit will be donated to a local family or shelter in need. \nRooted in faith and guided by purpose\, Busy Bees believes that a clean home can bring comfort\, hope\, and renewal—just like the season itself. Each booking helps spread that light a little further\, one home and one heart at a time. Join the hive in making this spring a season of service\, compassion\, and fresh beginnings. \nBook your spring cleaning today at BusyBeesFlawlessClean.com/Estimate 
URL:https://goodolgals.com/event/spring-into-service-with-busy-bees-%f0%9f%8c%b8%f0%9f%90%9d/
LOCATION:CA
CATEGORIES:Offer
ATTACH;FMTTYPE=image/png:https://goodolgals.com/wp-content/uploads/2026/03/Spring-Into-Service-—-Every-Clean-Gives-Back-small.png
ORGANIZER;CN="Krystina Cole":MAILTO:Krystina@BusyBeesFlawlessClean.com
END:VEVENT
BEGIN:VEVENT
DTSTART;TZID=UTC:20260424T113000
DTEND;TZID=UTC:20260424T140000
DTSTAMP:20260422T125015
CREATED:20240924T030817Z
LAST-MODIFIED:20260405T152143Z
UID:10128-1777030200-1777039200@goodolgals.com
SUMMARY:GOGs Meeting - April Event- Carlsbad
DESCRIPTION:See meeting details and register here – https://goodolgals.com/product/meeting-event-carlsbad-april/
URL:https://goodolgals.com/event/https-goodolgals-com-product-march-meeting-carlsbad-2-2/
LOCATION:Miguel’s Cocina\, 5980 Avenida Encinas\, Carlsbad\, 92008\, United States
CATEGORIES:Event,GOGs Meetings
ATTACH;FMTTYPE=image/jpeg:https://goodolgals.com/wp-content/uploads/2024/09/GOG-Graphic-2604-APR-MAIN-CB.jpg
END:VEVENT
BEGIN:VEVENT
DTSTART;TZID=UTC:20260425T170000
DTEND;TZID=UTC:20260425T190000
DTSTAMP:20260422T125015
CREATED:20260106T224315Z
LAST-MODIFIED:20260106T224315Z
UID:9543-1777136400-1777143600@goodolgals.com
SUMMARY:Miss Escondido Pageant 2026
DESCRIPTION:The Miss Escondido Pageant is a scholarship and enrichment program for young women ages 9-23. The pageant directors spend 7 weeks bringing in professionals to teach resume writing\, interviewing skills\, modeling\, public speaking\, makeup and style. During this time we also work with them to teach the skills needed for stage presence. In order to do this we need donations in all sizes. The pageant has options for support\, ad sales\, sponsorships and volunteering. The winners get the chance to serve in their community for the year and we make an effort to have them attend many different types of events to learn as much as possible. Thank you for your support!
URL:https://goodolgals.com/event/miss-escondido-pageant-2026/
LOCATION:The Grand-Ritz Theater\, 301 E. Grand Ave.\, Escondido\, CA\, 92025\, United States
CATEGORIES:Event
ATTACH;FMTTYPE=image/jpeg:https://goodolgals.com/wp-content/uploads/2026/01/MissEscondidoPageant2026-small.jpg
ORGANIZER;CN="Michelle Lockyer":MAILTO:missescondidopageant@gmail.com
END:VEVENT
BEGIN:VEVENT
DTSTART;TZID=UTC:20260425T180000
DTEND;TZID=UTC:20260425T200000
DTSTAMP:20260422T125015
CREATED:20260320T174432Z
LAST-MODIFIED:20260320T174642Z
UID:10029-1777140000-1777147200@goodolgals.com
SUMMARY:Wine & Dine Experience To Fight Alzheimers
DESCRIPTION:If you love foody food\, fine wine\, community\, live music\, and giving back THIS is for you! Your Exclusive Wine & Dine Experience To Benefit The Alzheimer’s Association includes ~ * 4 Gourmet Courses Created and Prepared by professional chef\, Isaiah Carter. \n* Organic\, All Natural\, Clean-Crafted Wine\n* Curated Pairings & Expert Presentation w/Certified Wine Specialist\, Monique Mason\n* Live Music & Elegant Atmosphere\n* Silent Auction with 100% of proceeds to benefit The Alzheimer’s Association. \n SPACE IS LIMITED. Click the link to reserve your spot. https://account.venmo.com/u/moniquemason_wagsandwine \nCost to Attend Event: $175/person or $330/couple
URL:https://goodolgals.com/event/wine-dine-experience-to-fight-alzheimers/
LOCATION:Monique’s home. 2723 Athens Ave.\, Carlsbad\, 92010\, 2723 Athens Ave.\, Carlsbad\, CA\, 92010\, United States
CATEGORIES:Event
ATTACH;FMTTYPE=image/jpeg:https://goodolgals.com/wp-content/uploads/2026/03/wine-and-dine-alz-3-1.jpg
ORGANIZER;CN="Monique Mason":MAILTO:moniac22@aol.com
END:VEVENT
BEGIN:VEVENT
DTSTART;TZID=UTC:20260426T130000
DTEND;TZID=UTC:20260426T140000
DTSTAMP:20260422T125015
CREATED:20260413T164011Z
LAST-MODIFIED:20260413T164011Z
UID:10158-1777208400-1777212000@goodolgals.com
SUMMARY:Free Webinar: The Magic of Feminine Presence
DESCRIPTION:Ladies\, This is a special offer for GOGs only! \nJoin Carol Cretella for an enlightening afternoon webinar: Introduction to The Magic of Feminine Presence (MFP). \nMFP is a body of work that includes 44 practices to reconnect women with the most powerful part of themselves\, so they can magnify their personal presence and enhance the vitality that makes life at any age purposeful and full of possibility. \nThis is a FREE Event
URL:https://goodolgals.com/event/free-webinar-the-magic-of-feminine-presence/
LOCATION:Zoom
CATEGORIES:Event
ATTACH;FMTTYPE=image/png:https://goodolgals.com/wp-content/uploads/2026/04/MFP-Flyer-Pg.-1-1-small.png
ORGANIZER;CN="Carol Cretella":MAILTO:carolcretella@gmail.com
END:VEVENT
BEGIN:VEVENT
DTSTART;TZID=UTC:20260429T160000
DTEND;TZID=UTC:20260429T190000
DTSTAMP:20260422T125015
CREATED:20260330T153611Z
LAST-MODIFIED:20260330T153833Z
UID:10088-1777478400-1777489200@goodolgals.com
SUMMARY:cabi Pop Up Show with Yolanda Crenshaw
DESCRIPTION:Yolanda brings the latest cabi collection directly to Koi Zen\, transforming the winery into a chic boutique for the evening. \nAs a fashion entrepreneur and personal stylist\, she creates a relaxed\, intimate shopping experience where women can explore the collection\, try on beautiful pieces\, and discover effortless ways to mix and match styles that fit their lives. Sip your favorite Koi Zen wine while enjoying personalized styling advice\, connecting with friends\, and discovering wardrobe pieces that make you feel confident and fabulous. Whether you’re looking for a standout piece or refreshing your spring wardrobe\, this is fashion made fun—with wine in hand. Try on the latest cabi styles\nGet personalized styling tips from Yolanda\nEnjoy a relaxed Sips & Style atmosphere \nThis is a FREE Event
URL:https://goodolgals.com/event/cabi-pop-up-show-with-yolanda-crenshaw/
LOCATION:Koi Zen Cellars\, 12225 World Trade Dr. STE P\, San Diego\, CA\, 92128\, United States
CATEGORIES:Event
ATTACH;FMTTYPE=image/jpeg:https://goodolgals.com/wp-content/uploads/2026/03/YolandaC-pop-up-cabi-show-small.jpg
ORGANIZER;CN="Yolanda Crenshaw":MAILTO:yolandajcrenshaw@gmail.com
END:VEVENT
END:VCALENDAR